BEGIN:VCALENDAR
VERSION:2.0
METHOD:PUBLISH
PRODID:-//hacksw/handcal//NONSGML v1.0//EN
BEGIN:VEVENT
DTSTAMP:20260421T103406Z
DTSTART:20260425T201100Z
DTEND:20260425T201100Z
UID:20260425T201100Z-20260425T201100Z-209@www.tsvjona.ch
SUMMARY:111. DV Sport Union Schweiz\, Kriessern (SG)
DESCRIPTION:
X-ALT-DESC;FMTTYPE=text/html:
URL:https://www.tsvjona.ch/events/111-dv-sport-union-schweiz-kriessern
 -sg/
ATTACH:https://www.tsvjona.ch/events/111-dv-sport-union-schweiz-kriess
 ern-sg/
END:VEVENT
BEGIN:VEVENT
DTSTAMP:20260421T103406Z
DTSTART;VALUE=DATE:20270108
DTEND;VALUE=DATE:20270109
UID:20270107T220000Z-20270108T215959Z-219@www.tsvjona.ch
SUMMARY:52. Delegiertenversammlung TSV Jona Gesamtverein
DESCRIPTION:
X-ALT-DESC;FMTTYPE=text/html:
URL:https://www.tsvjona.ch/events/52-delegiertenversammlung-tsv-jona-g
 esamtverein/
ATTACH:https://www.tsvjona.ch/events/52-delegiertenversammlung-tsv-jon
 a-gesamtverein/
END:VEVENT
BEGIN:VEVENT
DTSTAMP:20260421T103406Z
DTSTART;VALUE=DATE:20270424
DTEND;VALUE=DATE:20270425
UID:20270423T220000Z-20270424T215959Z-220@www.tsvjona.ch
SUMMARY:112. DV Sport Union Schweiz
DESCRIPTION:
X-ALT-DESC;FMTTYPE=text/html:
URL:https://www.tsvjona.ch/events/112-dv-sport-union-schweiz/
ATTACH:https://www.tsvjona.ch/events/112-dv-sport-union-schweiz/
END:VEVENT
END:VCALENDAR
