BEGIN:VCALENDAR
VERSION:2.0
METHOD:PUBLISH
PRODID:-//hacksw/handcal//NONSGML v1.0//EN
BEGIN:VEVENT
DTSTAMP:20260421T113237Z
DTSTART:20260306T180000Z
DTEND:20260306T200000Z
UID:20260306T180000Z-20260306T200000Z-210@www.tsvjona.ch
SUMMARY:94. GV TSV Jona Sport & Fitness
DESCRIPTION:
X-ALT-DESC;FMTTYPE=text/html:
URL:https://www.tsvjona.ch/events/94-gv-tsv-jona-sport-fitness/?lang=d
 e
ATTACH:https://www.tsvjona.ch/events/94-gv-tsv-jona-sport-fitness/?lan
 g=de
END:VEVENT
END:VCALENDAR
