BEGIN:VCALENDAR
VERSION:2.0
METHOD:PUBLISH
PRODID:-//hacksw/handcal//NONSGML v1.0//EN
BEGIN:VEVENT
DTSTAMP:20260421T102849Z
DTSTART;VALUE=DATE:20250110
DTEND;VALUE=DATE:20250112
UID:20250109T220000Z-20250111T215959Z-191@www.tsvjona.ch
SUMMARY:50. Delegiertenversammlung TSV Jona Gesamtverein
DESCRIPTION:
X-ALT-DESC;FMTTYPE=text/html:
URL:https://www.tsvjona.ch/events/50-delegiertenversammlung-tsv-jona/?
 lang=de
ATTACH:https://www.tsvjona.ch/events/50-delegiertenversammlung-tsv-jon
 a/?lang=de
END:VEVENT
END:VCALENDAR
