BEGIN:VCALENDAR
VERSION:2.0
METHOD:PUBLISH
PRODID:-//hacksw/handcal//NONSGML v1.0//EN
BEGIN:VEVENT
DTSTAMP:20260421T102858Z
DTSTART:20260109T163000Z
DTEND:20260109T215900Z
UID:20260109T163000Z-20260109T215900Z-208@www.tsvjona.ch
SUMMARY:51. Delegiertenversammlung TSV Jona Gesamtverein
DESCRIPTION:Apero 18.30 Uhr\n\nBeginn 19.00 Uhr\n\nGV ca. 20:15 Uhr
X-ALT-DESC;FMTTYPE=text/html:<p>Apero 18.30 Uhr</p>\n<p>Beginn 19.00 U
 hr</p>\n<p>GV ca. 20:15 Uhr</p>\n
URL:https://www.tsvjona.ch/events/51-delegiertenversammlung-tsv-jona/?
 lang=de
ATTACH:https://www.tsvjona.ch/events/51-delegiertenversammlung-tsv-jon
 a/?lang=de
END:VEVENT
END:VCALENDAR
